BEGIN:VCALENDAR
VERSION:2.0
PRODID:Imitheme.com 
BEGIN:VEVENT
UID:20260419T1841021701940191
DTSTAMP;TZID=UTC:2026-04-19 18:41:02
DTSTART;TZID=America/Los_Angeles:20260419T184102
DTEND;TZID=America/Los_Angeles:20260419T184102
SUMMARY:Meet The Candidates Forum - March 2025
LOCATION:
DESCRIPTION:Join Us Today! Joining Link: https://us06web.zoom.us/j/85643722314?pwd=1p8Z0x6QYK0ac3Qb8ay1x8EdiOcVi7.1
URL:https://www.ilmanetwork.org/eventer/meeting-candidates/
END:VEVENT
END:VCALENDAR
