BEGIN:VCALENDAR
VERSION:2.0
PRODID:Imitheme.com 
BEGIN:VEVENT
UID:20260419T1629071335595021
DTSTAMP;TZID=UTC:2026-04-19 16:29:07
DTSTART;TZID=America/Los_Angeles:20260419T162907
DTEND;TZID=America/Los_Angeles:20260419T162907
SUMMARY:Meet The Candidates Forum
LOCATION:
DESCRIPTION:Join Us Today! Joining Link: https://us06web.zoom.us/j/81158885556?pwd=lypsaYF9hUEW5zRba5DK3MbKatqpuJ.1
URL:https://www.ilmanetwork.org/eventer/meet-candidates-forum/
END:VEVENT
END:VCALENDAR
