BEGIN:VCALENDAR
VERSION:2.0
PRODID:Imitheme.com 
BEGIN:VEVENT
UID:20260419T1444172134434562
DTSTAMP;TZID=UTC:2026-04-19 14:44:17
DTSTART;TZID=America/Los_Angeles:20260419T144417
DTEND;TZID=America/Los_Angeles:20260419T144417
SUMMARY:Your Community, Your Leaders: Meet the Candidates
LOCATION:
DESCRIPTION:
URL:https://www.ilmanetwork.org/eventer/know-the-candidates/
END:VEVENT
END:VCALENDAR
