BEGIN:VCALENDAR
VERSION:2.0
PRODID:Imitheme.com 
BEGIN:VEVENT
UID:20260419T1255221275416476
DTSTAMP;TZID=UTC:2026-04-19 12:55:22
DTSTART;TZID=America/Los_Angeles:20260419T125522
DTEND;TZID=America/Los_Angeles:20260419T125522
SUMMARY:Getting Involved in Local Civic Engagement
LOCATION:
DESCRIPTION:
URL:https://www.ilmanetwork.org/eventer/getting-involved-in-local-civic-engagement/
END:VEVENT
END:VCALENDAR
