BEGIN:VCALENDAR
VERSION:2.0
PRODID:Imitheme.com 
BEGIN:VEVENT
UID:20260419T1256261999266484
DTSTAMP;TZID=UTC:2026-04-19 12:56:26
DTSTART;TZID=America/Los_Angeles:20260419T125626
DTEND;TZID=America/Los_Angeles:20260419T125626
SUMMARY:Meet The Candidates - Picnic
LOCATION:
DESCRIPTION:Let\'s come together for a day of fun on September 22 at Salt Creek Park! This event is your chance to meet Saba Haider, and Suzanne Akhras, the candidates for the upcoming elections. Your vote matters! Attend to learn about their visions for our community and ask questions about the issues that matter most to you. Enjoy delicious food, live music, and family-friendly activities while connecting with your neighbors. Bring your friends and family - Let\'s come together to shape a better tomorrow!
URL:https://www.ilmanetwork.org/eventer/meet-the-candidates-picnic/
END:VEVENT
END:VCALENDAR
