BEGIN:VCALENDAR
VERSION:2.0
PRODID:Imitheme.com
BEGIN:VEVENT
UID:20260419T144150-1570237569
DTSTAMP;TZID=UTC:1776609710
DTSTART;TZID=America/Los_Angeles:20260419T144150
DTEND;TZID=America/Los_Angeles:20260419T144150
SUMMARY:"Engaging your Local Officials " With Rep. Abdelnasser Rashid
LOCATION:
DESCRIPTION: Every person attending needs to be separate ticket https://www.ilmanetwork.org/eventer/engaging-local-officials-with-rep-abdelnasser-rashid/
URL:https://www.ilmanetwork.org/eventer/engaging-local-officials-with-rep-abdelnasser-rashid/
END:VEVENT
END:VCALENDAR
