BEGIN:VCALENDAR
VERSION:2.0
PRODID:Imitheme.com
BEGIN:VEVENT
UID:20260419T125516-1150836927
DTSTAMP;TZID=UTC:1776603316
DTSTART;TZID=America/Los_Angeles:20260419T125516
DTEND;TZID=America/Los_Angeles:20260419T125516
SUMMARY:Talking Civic Engagement With Rep. Nabeela Syed And Sh. Nazir Chahin
LOCATION:
DESCRIPTION: Every person attending needs to buy separate tickethttps://www.ilmanetwork.org/eventer/impactful-discussion-on-civic-engagement/
URL:https://www.ilmanetwork.org/eventer/impactful-discussion-on-civic-engagement/
END:VEVENT
END:VCALENDAR
