BEGIN:VCALENDAR
VERSION:2.0
PRODID:Imitheme.com
BEGIN:VEVENT
UID:20260419T125642-12437868
DTSTAMP;TZID=UTC:1776603402
DTSTART;TZID=America/Los_Angeles:20260419T125642
DTEND;TZID=America/Los_Angeles:20260419T125642
SUMMARY:The Illinois Dialogue: A Roundtable With Rep. Rashid
LOCATION:
DESCRIPTION: https://www.ilmanetwork.org/eventer/round-table-discussion-event/
URL:https://www.ilmanetwork.org/eventer/round-table-discussion-event/
END:VEVENT
END:VCALENDAR
